BEGIN:VCALENDAR
VERSION:2.0
PRODID:-//Afterschool.org - ECPv6.15.19//NONSGML v1.0//EN
CALSCALE:GREGORIAN
METHOD:PUBLISH
X-ORIGINAL-URL:https://afterschool.org
X-WR-CALDESC:Events for Afterschool.org
REFRESH-INTERVAL;VALUE=DURATION:PT1H
X-Robots-Tag:noindex
X-PUBLISHED-TTL:PT1H
BEGIN:VTIMEZONE
TZID:America/Los_Angeles
BEGIN:DAYLIGHT
TZOFFSETFROM:-0800
TZOFFSETTO:-0700
TZNAME:PDT
DTSTART:20230312T100000
END:DAYLIGHT
BEGIN:STANDARD
TZOFFSETFROM:-0700
TZOFFSETTO:-0800
TZNAME:PST
DTSTART:20231105T090000
END:STANDARD
BEGIN:DAYLIGHT
TZOFFSETFROM:-0800
TZOFFSETTO:-0700
TZNAME:PDT
DTSTART:20240310T100000
END:DAYLIGHT
BEGIN:STANDARD
TZOFFSETFROM:-0700
TZOFFSETTO:-0800
TZNAME:PST
DTSTART:20241103T090000
END:STANDARD
BEGIN:DAYLIGHT
TZOFFSETFROM:-0800
TZOFFSETTO:-0700
TZNAME:PDT
DTSTART:20250309T100000
END:DAYLIGHT
BEGIN:STANDARD
TZOFFSETFROM:-0700
TZOFFSETTO:-0800
TZNAME:PST
DTSTART:20251102T090000
END:STANDARD
END:VTIMEZONE
BEGIN:VEVENT
DTSTART;TZID=America/Los_Angeles:20240921T090000
DTEND;TZID=America/Los_Angeles:20240921T110000
DTSTAMP:20260420T061306
CREATED:20240718T224620Z
LAST-MODIFIED:20240718T224620Z
UID:10000649-1726909200-1726916400@afterschool.org
SUMMARY:Healthy Chino 20 Year Celebration
DESCRIPTION:Join the community for a healthy Chino history Walk and Health and fitness demonstrations.
URL:https://afterschool.org/event/healthy-chino-20-year-celebration/
LOCATION:Liberty Park\, 11860 Telephone Avenue\, Chino\, CA\, United States
ATTACH;FMTTYPE=image/jpeg:https://afterschool.org/wp-content/uploads/2024/07/Screenshot-2024-07-18-152914.jpg
ORGANIZER;CN="Student Hires LLC":MAILTO:programs@studenthires.com
GEO:34.0377809;-117.6949993
X-APPLE-STRUCTURED-LOCATION;VALUE=URI;X-ADDRESS=Liberty Park 11860 Telephone Avenue Chino CA United States;X-APPLE-RADIUS=500;X-TITLE=11860 Telephone Avenue:geo:-117.6949993,34.0377809
END:VEVENT
END:VCALENDAR